BEGIN:VCALENDAR
VERSION:2.0
PRODID:-//ChamberMaster//Event Calendar 2.0//EN
METHOD:PUBLISH
X-PUBLISHED-TTL:P3D
REFRESH-INTERVAL:P3D
CALSCALE:GREGORIAN
BEGIN:VEVENT
DTSTART;VALUE=DATE:20090523
DTEND;VALUE=DATE:20090601
TRANSP:TRANSPARENT
X-MICROSOFT-CDO-ALLDAYEVENT:TRUE
SUMMARY:Event at Oreck of Hattiesburg
DESCRIPTION:WE are donating 10% of the Sales of all Oreck Clean Systems sold until the end of May to the Mississippi Military Family Relief Fund that assists families of our deployed soldiers who are in need.  Also\, please come in and make a Father's Day Card for A Soldier Dad in Afghanistan.  Ms Lyons at Camp Shelby is helping us to make sure the Cards will be there in time for Father's day.
X-ALT-DESC;FMTTYPE=text/html:WE are donating 10% of the Sales of all Oreck Clean Systems sold until the end of May to the Mississippi Military Family Relief Fund that assists families of our deployed soldiers who are in need.  Also\, please come in and make a Father's Day Card for A Soldier Dad in Afghanistan.  Ms Lyons at Camp Shelby is helping us to make sure the Cards will be there in time for Father's day.
LOCATION:Oreck Vacuums of Hattiesburg located between Hobby Lobby and Sweet Peppers on Hwy 98 West
UID:e.475.255
SEQUENCE:3
DTSTAMP:20260421T185101Z
URL:http://2fwww.theadp.com/events/details/event-at-oreck-of-hattiesburg-05-23-2009-255
END:VEVENT

END:VCALENDAR
