BEGIN:VCALENDAR
VERSION:2.0
PRODID:-//ChamberMaster//Event Calendar 2.0//EN
METHOD:PUBLISH
X-PUBLISHED-TTL:P3D
REFRESH-INTERVAL:P3D
CALSCALE:GREGORIAN
BEGIN:VEVENT
DTSTART;VALUE=DATE:20090819
DTEND;VALUE=DATE:20090820
TRANSP:TRANSPARENT
X-MICROSOFT-CDO-ALLDAYEVENT:TRUE
SUMMARY:Event at Liberty National Life
DESCRIPTION:"WE'RE HIRING" LIBERTY NATIONAL IS SEEKING TO APPOINT 200+ SALES AGENTS AND SALES MANAGEMENT POSITIONS. THE COMPANY PROVIDES COMPLETE TRAINING AND THE OPPORTUNITY FOR RAPID ADVANCEMENT AT EVERY LEVEL
X-ALT-DESC;FMTTYPE=text/html:"WE'RE HIRING" LIBERTY NATIONAL IS SEEKING TO APPOINT 200+ SALES AGENTS AND SALES MANAGEMENT POSITIONS. THE COMPANY PROVIDES COMPLETE TRAINING AND THE OPPORTUNITY FOR RAPID ADVANCEMENT AT EVERY LEVEL 
LOCATION:HOLIDAY INN AND SUITES 10 GATEWAY DR. HATTIESBURG MS 39402
UID:e.475.294
SEQUENCE:3
DTSTAMP:20260421T143819Z
URL:http://2fwww.theadp.com/events/details/event-at-liberty-national-life-08-19-2009-294
END:VEVENT

END:VCALENDAR
