BEGIN:VCALENDAR
VERSION:2.0
PRODID:-//ChamberMaster//Event Calendar 2.0//EN
METHOD:PUBLISH
X-PUBLISHED-TTL:P3D
REFRESH-INTERVAL:P3D
CALSCALE:GREGORIAN
BEGIN:VEVENT
DTSTART;VALUE=DATE:20091107
DTEND;VALUE=DATE:20091121
TRANSP:TRANSPARENT
X-MICROSOFT-CDO-ALLDAYEVENT:TRUE
SUMMARY:Event at Kids In My Kitchen\, Inc.
DESCRIPTION:Holiday Food Drive\nKids in my Kitchen is teaming up with Edwards Street Mission to bring holiday baking goods to those in need.  Each child that brings in $5 worth of baking goods to Kids in my Kitchen will receive a free Webkinz.
X-ALT-DESC;FMTTYPE=text/html:Holiday Food Drive\nKids in my Kitchen is teaming up with Edwards Street Mission to bring holiday baking goods to those in need.  Each child that brings in $5 worth of baking goods to Kids in my Kitchen will receive a free Webkinz.  
LOCATION:Kids in my Kitchen Village Green Mall\, Suite 2 (next door to Willies) Hwy 49\, Hattiesburg\, MS
UID:e.475.494
SEQUENCE:3
DTSTAMP:20260419T123030Z
URL:http://2fwww.theadp.com/events/details/event-at-kids-in-my-kitchen-inc-11-07-2009-494
END:VEVENT

END:VCALENDAR
