BEGIN:VCALENDAR
VERSION:2.0
PRODID:-//ChamberMaster//Event Calendar 2.0//EN
METHOD:PUBLISH
X-PUBLISHED-TTL:P3D
REFRESH-INTERVAL:P3D
CALSCALE:GREGORIAN
BEGIN:VEVENT
DTSTART:20091001T150000Z
DTEND:20091001T160000Z
X-MICROSOFT-CDO-ALLDAYEVENT:FALSE
SUMMARY:Event at Healthy Cells Magazine
DESCRIPTION:Ribbon Cutting\nHealthy Cells Magazine is a monthly health magazine focusing on physical\, emotional\, and nutritional health in the Pine Belt.
X-ALT-DESC;FMTTYPE=text/html:Ribbon Cutting\nHealthy Cells Magazine is a monthly health magazine focusing on physical\, emotional\, and nutritional health in the Pine Belt.
LOCATION:Healthy Cells Magazine Ribbon Cutting129 Walnut StreetHattiesburg\, MS 39401
UID:e.475.439
SEQUENCE:3
DTSTAMP:20260421T114547Z
URL:http://2fwww.theadp.com/events/details/event-at-healthy-cells-magazine-10-01-2009-439
END:VEVENT

END:VCALENDAR
