BEGIN:VCALENDAR
VERSION:2.0
PRODID:-//ChamberMaster//Event Calendar 2.0//EN
METHOD:PUBLISH
X-PUBLISHED-TTL:P3D
REFRESH-INTERVAL:P3D
CALSCALE:GREGORIAN
BEGIN:VEVENT
DTSTART:20090601T220000Z
DTEND:20090602T000000Z
X-MICROSOFT-CDO-ALLDAYEVENT:FALSE
SUMMARY:Event at Designer's Fabric Shop
DESCRIPTION:Celebration of our seventh year in business in the Pine Belt!  Refreshments and intro's to our new line of fabric and our designer\, LeighAnn Jones.  Our biggest sale of the year!
X-ALT-DESC;FMTTYPE=text/html:Celebration of our seventh year in business in the Pine Belt!  Refreshments and intro's to our new line of fabric and our designer\, LeighAnn Jones.  Our biggest sale of the year!
LOCATION:5317 Old Highway 11\, Suite 11\, Hattiesburg
UID:e.475.251
SEQUENCE:3
DTSTAMP:20260421T173450Z
URL:http://2fwww.theadp.com/events/details/event-at-designer-s-fabric-shop-06-01-2009-251
END:VEVENT

END:VCALENDAR
