BEGIN:VCALENDAR
VERSION:2.0
PRODID:-//ChamberMaster//Event Calendar 2.0//EN
METHOD:PUBLISH
X-PUBLISHED-TTL:P3D
REFRESH-INTERVAL:P3D
CALSCALE:GREGORIAN
BEGIN:VEVENT
DTSTART:20090424T150000Z
DTEND:20090424T150000Z
X-MICROSOFT-CDO-ALLDAYEVENT:FALSE
SUMMARY:Epley Depot Ribbon Cutting
DESCRIPTION:Carloads of excited passengers are once again pulling into the Epley Depot. This late 1800s trains stop is now blooming with color and awaits your green thumb and imagination. The folks at Epley Depot Garden Center are happy to provide an atmosphere of personal service where your questions can be answered as well as offer the best prices in town. Here one can find out of the ordinary plant selections\, a full array of palms\, and pottery and ironwork. Conveniently located on Highway 589 between Bellevue and Sumrall\, Epley Depot has plans to expand into a full retail/wholesale growers' outlet\, with special pricing to landscapers. Look forward to seasonal offerings of fresh produce in summer\, pumpkins in fall\, and decorative plants and trees at Christmas! Please come and welcome Epley Depot as a new member of the Area Development Partnership. Enjoy refreshments and specials on plants during the event!
X-ALT-DESC;FMTTYPE=text/html:<div>Carloads of excited passengers are once again pulling into the Epley Depot. This late 1800s trains stop is now blooming with color and awaits your green thumb and imagination. The folks at Epley Depot Garden Center are happy to provide an atmosphere of personal service where your questions can be answered as well as offer the best prices in town. Here one can find out of the ordinary plant selections\, a full array of palms\, and pottery and ironwork. Conveniently located on Highway 589 between Bellevue and Sumrall\, Epley Depot has plans to expand into a full retail/wholesale growers' outlet\, with special pricing to landscapers. Look forward to seasonal offerings of fresh produce in summer\, pumpkins in fall\, and decorative plants and trees at Christmas!</div><div>&nbsp\;</div><div>Please come and welcome Epley Depot as a new member of the Area Development Partnership. Enjoy refreshments and specials on plants during the event!</div>
LOCATION:Epley Depot3920 Hwy 589Sumrall\, MS 39482601.758.4399 4.2 miles from Hwy 98 on the right
UID:e.475.247
SEQUENCE:3
DTSTAMP:20260421T200859Z
URL:http://2fwww.theadp.com/events/details/epley-depot-ribbon-cutting-04-24-2009-247
END:VEVENT

END:VCALENDAR
