BEGIN:VCALENDAR
VERSION:2.0
PRODID:-//ChamberMaster//Event Calendar 2.0//EN
METHOD:PUBLISH
X-PUBLISHED-TTL:P3D
REFRESH-INTERVAL:P3D
CALSCALE:GREGORIAN
BEGIN:VEVENT
DTSTART:20090813T210000Z
DTEND:20090813T230000Z
X-MICROSOFT-CDO-ALLDAYEVENT:FALSE
SUMMARY:Dunn House Bed and Breakfast Ribbon Cutting and Open House
DESCRIPTION:
X-ALT-DESC;FMTTYPE=text/html:
LOCATION:Dunn House Bed and Breakfast102 Short Bay StreetHattiesburg\, MS 39401601.584.6185 located on the corner of East Hardy Street and Williams Street
UID:e.475.285
SEQUENCE:3
DTSTAMP:20260421T144057Z
URL:http://2fwww.theadp.com/events/details/dunn-house-bed-and-breakfast-ribbon-cutting-and-open-house-08-13-2009-285
END:VEVENT

END:VCALENDAR
