BEGIN:VCALENDAR
VERSION:2.0
PRODID:-//ChamberMaster//Event Calendar 2.0//EN
METHOD:PUBLISH
X-PUBLISHED-TTL:P3D
REFRESH-INTERVAL:P3D
CALSCALE:GREGORIAN
BEGIN:VEVENT
DTSTART:20090709T150000Z
DTEND:20090709T153000Z
X-MICROSOFT-CDO-ALLDAYEVENT:FALSE
SUMMARY:Deaconess HomeCare Ribbon Cutting
DESCRIPTION:Since 1969\, Deaconess HomeCare (DHC)\, a subsidiary of Critical Homecare Solutions\, has offered both experience and a commitment to providing quality services that enhance the well-being of the patients and the communitites we serve. DHC's broad spectrum of effective and efficient home health care services and programs are provided by highly-trained professional staff who utilizes state of the art technology. Deaconess HomeCare serves 95 counties throughout Kentucky\, Mississippi\, Ohio\, an Tennessee through the operation of 25 locations. For more information on the services and programs offered by Deaconess HomeCare\, contact us at 601.268.1842 / 800.234.1842 or visit our website at www.deaconesshomecare.com.
X-ALT-DESC;FMTTYPE=text/html:<div>Since 1969\, Deaconess HomeCare (DHC)\, a subsidiary of Critical Homecare Solutions\, has offered both experience and a commitment to providing quality services that enhance the well-being of the patients and the communitites we serve. DHC's broad spectrum of effective and efficient home health care services and programs are provided by highly-trained professional staff who utilizes state of the art technology.</div><div>&nbsp\;</div><div>Deaconess HomeCare serves 95 counties throughout Kentucky\, Mississippi\, Ohio\, an Tennessee through the operation of 25 locations. For more information on the services and programs offered by Deaconess HomeCare\, contact us at 601.268.1842 / 800.234.1842 or visit our website at www.deaconesshomecare.com.</div>
LOCATION:Deaconess HomeCare108 Lundy LaneHattiesburg\, MS 39404601.268.1842
UID:e.475.271
SEQUENCE:3
DTSTAMP:20260421T161125Z
URL:http://2fwww.theadp.com/events/details/deaconess-homecare-ribbon-cutting-07-09-2009-271
END:VEVENT

END:VCALENDAR
