BEGIN:VCALENDAR
VERSION:2.0
PRODID:-//ChamberMaster//Event Calendar 2.0//EN
METHOD:PUBLISH
X-PUBLISHED-TTL:P3D
REFRESH-INTERVAL:P3D
CALSCALE:GREGORIAN
BEGIN:VEVENT
DTSTART:20090723T163000Z
DTEND:20090723T190000Z
X-MICROSOFT-CDO-ALLDAYEVENT:FALSE
SUMMARY:Davis-Morris Law Firm\, P.A. - A Disability Law Firm Ribbon Cutting
DESCRIPTION:Davis-Morris Law Firm\, P.A. - A Disability Law Firm - has been helping the disabled obtain their Social Security Disability Benefits for 17 years. We have helped thousands of individuals in our community who have been stricken with serious illness\, disease and other physical and mental problems that keep them from working. We love what we do and we care about the people we serve. We have been very blessed in our practice and recently required more space. We are now located at 804 West Pine Street in Hattiesburg. Renovations are almost complete and we will celebrate with a Ribbon Cutting and Open House on July 23\, 2009. The Ribbon Cutting will be at 11:30 a.m. with an Open House until 2:00 p.m. The Bottling Company will cater and there will be food\, fun and door prizes! Please join us in this celebration!  Please join the ADP for refreshments and a ribbon cutting to celebrate the new location of Davis-Morris Law Firm.
X-ALT-DESC;FMTTYPE=text/html:<div><div><span class="743500519-08072009"><p><span style="color: #000000"><font face="Arial" size="2">Davis-Morris Law Firm\, P.A. - A Disability Law Firm - has been helping the disabled obtain their Social Security Disability Benefits for 17 years. We have helped thousands of individuals in our community who have been stricken with serious illness\, disease&nbsp\;<span class="743500519-08072009">and</span> other physical and<span class="118102419-08072009">&nbsp\;</span>mental problems that keep them from working. We love what we do and we care about the people we serve. </font></span></p><p><span style="color: #000000"><font face="Arial" size="2">We have been very blessed in our practice and recently required more space. We are now located at 804 West Pine Street in Hattiesburg. Renovations are almost complete and we will celebrate with a Ribbon Cutting and Open House on July 23\, 2009. The Ribbon Cutting will be at 11:30 a.m. with an Open House until 2:00 p.m. The Bottling Company will cater and there will be food\, fun and door prizes! Please join us in this celebration! </font></span></p></span></div></div><div>&nbsp\;</div><div>Please join the ADP&nbsp\;for refreshments and a ribbon cutting to celebrate the new location of Davis-Morris Law Firm.</div>
LOCATION:804 West Pine StreetHattiesburg\, MS 39401601.545.3127 From Hwy 49\, take Broadway Drive toward downtown. The street changes to West Pine Street at the caution light. Stay on West Pine Street. Located on the right (grey building with black iron decorative bars) between 5th and 4th Avenues.
UID:e.475.266
SEQUENCE:3
DTSTAMP:20260421T160426Z
URL:http://2fwww.theadp.com/events/details/davis-morris-law-firm-p-a-a-disability-law-firm-ribbon-cutting-07-23-2009-266
END:VEVENT

END:VCALENDAR
