BEGIN:VCALENDAR
VERSION:2.0
PRODID:-//ChamberMaster//Event Calendar 2.0//EN
METHOD:PUBLISH
X-PUBLISHED-TTL:P3D
REFRESH-INTERVAL:P3D
CALSCALE:GREGORIAN
BEGIN:VEVENT
DTSTART:20091015T220000Z
DTEND:20091015T223000Z
X-MICROSOFT-CDO-ALLDAYEVENT:FALSE
SUMMARY:Copeland\, Cook\, Taylor\, and Bush\, P.A. Ribbon Cutting
DESCRIPTION:Please join us for a Ribbon Cutting prior to Business After Hours.
X-ALT-DESC;FMTTYPE=text/html:<div>Please join us for a Ribbon Cutting prior to Business After Hours.</div>
LOCATION:
UID:e.475.449
SEQUENCE:3
DTSTAMP:20260421T120626Z
URL:http://2fwww.theadp.com/events/details/copeland-cook-taylor-and-bush-p-a-ribbon-cutting-10-15-2009-449
END:VEVENT

END:VCALENDAR
