BEGIN:VCALENDAR
VERSION:2.0
PRODID:-//ChamberMaster//Event Calendar 2.0//EN
METHOD:PUBLISH
X-PUBLISHED-TTL:P3D
REFRESH-INTERVAL:P3D
CALSCALE:GREGORIAN
BEGIN:VEVENT
DTSTART:20090526T150000Z
DTEND:20090526T153000Z
X-MICROSOFT-CDO-ALLDAYEVENT:FALSE
SUMMARY:Community Investment Professionals Ribbon Cutting
DESCRIPTION:Please join the ADP for a Ribbon Cutting to honor Community Investment Professionals Community Bank and Investment Professionals\, Inc.\, have partnered together to form Community Investment Professionals in the Hattiesburg/Ellisville area.Mike Darby\, with 23 yeard of industry experience\, opened the local office in November of 2008 in the Hardy Street branch of Community Bank. Mike's partnership with Investment Professionals\, Inc. leverages more that 17 years of working with their clients and more than 4.2 billion under management to help clients reach their goals. Clients will have access to Community investment Professionals full team of experts\, including financial and retirement planning\, insurance and annuities\, stocks\, fixed income and estate planning.
X-ALT-DESC;FMTTYPE=text/html:<div>Please join the ADP for a Ribbon Cutting to honor <a href="http://www.invpro.com ">Community Investment Professionals</a></div><div>&nbsp\;</div><div><div style="margin: 0in 0in 0pt"><span style="font-size: 10pt">Community Bank and Investment Professionals\, Inc.\, have partnered together to form Community Investment Professionals in the Hattiesburg/Ellisville area.</span></div><div style="margin: 0in 0in 0pt"><span style="font-size: 10pt">Mike Darby\, with 23 yeard of industry experience\, opened the local office in November of 2008 in the Hardy Street branch of Community Bank. Mike&rsquo\;s partnership with Investment Professionals\, Inc. leverages more that 17 years of working with their clients and more than 4.2 billion under management to help clients reach their goals. Clients will have access to Community investment Professionals full team of experts\, including financial and retirement planning\, insurance and annuities\, stocks\, fixed income and estate planning. </span></div></div>
LOCATION:Community Investment Professionals5010 Hardy StreetHattiesburg\, MS 39402601.579.6959 Across Highway 98 from Wesley Medical Center
UID:e.475.242
SEQUENCE:3
DTSTAMP:20260421T185737Z
URL:http://2fwww.theadp.com/events/details/community-investment-professionals-ribbon-cutting-05-26-2009-242
END:VEVENT

END:VCALENDAR
