BEGIN:VCALENDAR
VERSION:2.0
PRODID:-//ChamberMaster//Event Calendar 2.0//EN
METHOD:PUBLISH
X-PUBLISHED-TTL:P3D
REFRESH-INTERVAL:P3D
CALSCALE:GREGORIAN
BEGIN:VEVENT
DTSTART:20091213T000000Z
DTEND:20091213T020000Z
X-MICROSOFT-CDO-ALLDAYEVENT:FALSE
SUMMARY:Christmas in Bellegrass
DESCRIPTION:Come enjoy the Christmas spirit in Bellegrass.  Drive through and look at the illuminated subdivision\, live nativity scene\, carriage rides\, USM Men's Choral group\, Benedict Day School- Christmas Medley and tour the Southern Living Home and many more open houses.  Drive through M & M learning Factory and see Santa and much more.
X-ALT-DESC;FMTTYPE=text/html:Come enjoy the Christmas spirit in Bellegrass.  Drive through and look at the illuminated subdivision\, live nativity scene\, carriage rides\, USM Men's Choral group\, Benedict Day School- Christmas Medley and tour the Southern Living Home and many more open houses.  Drive through M & M learning Factory and see Santa and much more.  
LOCATION:
UID:e.475.508
SEQUENCE:3
DTSTAMP:20260421T082626Z
URL:http://2fwww.theadp.com/events/details/christmas-in-bellegrass-12-12-2009-508
END:VEVENT

END:VCALENDAR
