BEGIN:VCALENDAR
VERSION:2.0
PRODID:-//ChamberMaster//Event Calendar 2.0//EN
METHOD:PUBLISH
X-PUBLISHED-TTL:P3D
REFRESH-INTERVAL:P3D
CALSCALE:GREGORIAN
BEGIN:VEVENT
DTSTART:20090731T160000Z
DTEND:20090731T163000Z
X-MICROSOFT-CDO-ALLDAYEVENT:FALSE
SUMMARY:Cellular South Turtle Creek Mall Location Ribbon Cutting
DESCRIPTION:Once again\, Cellular South is growing in the Hattiesburg area and now will have a full service store inside Turtle Creek Mall\, next to the former Goody's..On July 31st\, at 11:00 a.m.\, they will have a ribbon cutting with the Area Development Partnership and invite all of their customers out to see the beautiful new store and experience their Discover Center. Come see how to get the most from your wireless device\, from maps\, to movie schedules\, keep up with your favorite team and even get recipes on-the-go.There will be a radio remote\, light refreshments and lots of door prizes.
X-ALT-DESC;FMTTYPE=text/html:<div><div><span class="199502816-14072009"><font face="Arial" size="2"><strong>Once again\, Cellular South is growing in the Hattiesburg area and now will have a full service store inside Turtle Creek Mall\, next to the former Goody's..</strong></font></span></div><div><span class="199502816-14072009"><font face="Arial" size="2"><strong>On July 31st\, at 11:00 a.m.\, they will have a ribbon cutting with the Area Development Partnership and invite all of their customers out to see the beautiful new store and experience their Discover Center. Come see how to get the most from your wireless device\, from maps\, to movie schedules\, keep up with your favorite team and even get recipes on-the-go.</strong></font></span></div><div><span class="199502816-14072009"><font face="Arial" size="2"><strong>There will be a radio remote\, light refreshments and lots of door prizes.</strong></font></span></div></div>
LOCATION:Cellulat South - Turtle Creek Mall1000 Turtle Creek Drive #40Hattiesburg\, MS 394021.877.276.8841
UID:e.475.272
SEQUENCE:3
DTSTAMP:20260421T160206Z
URL:http://2fwww.theadp.com/events/details/cellular-south-turtle-creek-mall-location-ribbon-cutting-07-31-2009-272
END:VEVENT

END:VCALENDAR
