BEGIN:VCALENDAR
VERSION:2.0
PRODID:-//ChamberMaster//Event Calendar 2.0//EN
METHOD:PUBLISH
X-PUBLISHED-TTL:P3D
REFRESH-INTERVAL:P3D
CALSCALE:GREGORIAN
BEGIN:VEVENT
DTSTART:20090626T150000Z
DTEND:20090626T153000Z
X-MICROSOFT-CDO-ALLDAYEVENT:FALSE
SUMMARY:Cellular South Ribbon Cutting
DESCRIPTION:Please join Cellular South in celebrating the Grand Re-opening of its Hwy. 98 store. Located at 4930 Hardy Street\, we will have a ribbon cutting at 10:00am\, with local ADP and city officials and will offer light refreshments\, door prizes\, and fantastic phone specials. There will be a live radio remote with WBBN\, B95 from 11:30-1:30pm and other special guests will attend.This concept store will offer the latest way for customers to check out the Discover Center and learn ways to unlock the potential of their wireless device. Discover your unlimitations at Cellular South.
X-ALT-DESC;FMTTYPE=text/html:<p class="MsoNormal" style="margin: 0in 0in 0pt">Please join Cellular South in celebrating the Grand Re-opening of its Hwy. 98 store. Located at <st1:street w:st="on"><st1:address w:st="on">4930 Hardy Street</st1:address></st1:street>\, we will have a ribbon cutting at <st1:time w:st="on" minute="0" hour="10">10:00am</st1:time>\, with local <st1:stockticker w:st="on">ADP</st1:stockticker> and city officials and will offer light refreshments\, door prizes\, and fantastic phone specials. There will be a live radio remote with WBBN\, B95 from <st1:time w:st="on" minute="30" hour="11">11:30-1:30pm</st1:time> and other special guests will attend.</p><p class="MsoNormal" style="margin: 0in 0in 0pt">This concept store will offer the latest way for customers to check out the <st1:place w:st="on"><st1:placename w:st="on">Discover</st1:placename> <st1:placetype w:st="on">Center</st1:placetype></st1:place> and learn ways to unlock the potential of their wireless device. Discover your unlimitations at Cellular South.</p>
LOCATION:
UID:e.475.256
SEQUENCE:3
DTSTAMP:20260421T173414Z
URL:http://2fwww.theadp.com/events/details/cellular-south-ribbon-cutting-06-26-2009-256
END:VEVENT

END:VCALENDAR
