BEGIN:VCALENDAR
VERSION:2.0
PRODID:-//ChamberMaster//Event Calendar 2.0//EN
METHOD:PUBLISH
X-PUBLISHED-TTL:P3D
REFRESH-INTERVAL:P3D
CALSCALE:GREGORIAN
BEGIN:VEVENT
DTSTART:20090414T190000Z
DTEND:20090414T193000Z
X-MICROSOFT-CDO-ALLDAYEVENT:FALSE
SUMMARY:CARES School Ribbon Cutting
DESCRIPTION:
X-ALT-DESC;FMTTYPE=text/html:
LOCATION:CARES School6280 US Highway 49Located on the frontage road next to Westchester Apartments601.544.7443
UID:e.475.28
SEQUENCE:3
DTSTAMP:20260421T201501Z
URL:http://2fwww.theadp.com/events/details/cares-school-ribbon-cutting-04-14-2009-28
END:VEVENT

END:VCALENDAR
