BEGIN:VCALENDAR
VERSION:2.0
PRODID:-//ChamberMaster//Event Calendar 2.0//EN
METHOD:PUBLISH
X-PUBLISHED-TTL:P3D
REFRESH-INTERVAL:P3D
CALSCALE:GREGORIAN
BEGIN:VEVENT
DTSTART:20110217T233000Z
DTEND:20110218T010000Z
X-MICROSOFT-CDO-ALLDAYEVENT:FALSE
SUMMARY:Business After Hours - The Citizens Bank
DESCRIPTION:Join the Area Development Partnership and The Citizens Bank for February's Business After Hours.  The Citzens Bank has a beautiful new location on Highway 98 West they're looking forward to exhibiting to guests with food\, beverages and networking opportunities.
X-ALT-DESC;FMTTYPE=text/html:Join the Area Development Partnership and The Citizens Bank for February&#39\;s Business After Hours.&nbsp\; The Citzens Bank has a beautiful new location on Highway 98 West they&#39\;re looking forward to exhibiting to guests with food\, beverages and networking opportunities.
LOCATION:6222 US Highway 98 West Hattiesburg\, MS 39402
UID:e.475.1008
SEQUENCE:3
DTSTAMP:20260420T103424Z
URL:http://2fwww.theadp.com/events/details/business-after-hours-the-citizens-bank-02-17-2011-1008
END:VEVENT

END:VCALENDAR
