BEGIN:VCALENDAR
VERSION:2.0
PRODID:-//ChamberMaster//Event Calendar 2.0//EN
METHOD:PUBLISH
X-PUBLISHED-TTL:P3D
REFRESH-INTERVAL:P3D
CALSCALE:GREGORIAN
BEGIN:VEVENT
DTSTART:20090423T223000Z
DTEND:20090424T000000Z
X-MICROSOFT-CDO-ALLDAYEVENT:FALSE
SUMMARY:Business After Hours - MegaGate Broadband
DESCRIPTION:Business After Hours is a prime networking opportunity for ADP members.  Hosted at different member businesses each month\, Business After Hours provides a new experience and the chance to meet new faces and make new contacts.  Don't miss out on this great benefit of being a member of the ADP. If your company would like to host a Business After Hours\, contact Elizabeth Bush at e.bush@theADP.com or 601.296.7508.
X-ALT-DESC;FMTTYPE=text/html:<div>Business After Hours is a prime networking opportunity for ADP members.&nbsp\; Hosted at different member businesses each month\, Business After Hours provides a new experience and the chance to meet new faces and make new contacts.&nbsp\; Don't miss out on this great benefit of being a member of the ADP.</div><div>&nbsp\;</div><div>If your company would like to host a Business After Hours\, contact Elizabeth Bush at <a href="mailto:e.bush@theADP.com">e.bush@theADP.com</a> or 601.296.7508.</div>
LOCATION:MegaGate Broadband6184 US Hwy 98 WLocated on Highway 98 West\, MegaGate shares a building with Coldwell Banker next to Arby's601.450.5000
UID:e.475.232
SEQUENCE:3
DTSTAMP:20260421T201420Z
URL:http://2fwww.theadp.com/events/details/business-after-hours-megagate-broadband-04-23-2009-232
END:VEVENT

END:VCALENDAR
