BEGIN:VCALENDAR
VERSION:2.0
PRODID:-//ChamberMaster//Event Calendar 2.0//EN
METHOD:PUBLISH
X-PUBLISHED-TTL:P3D
REFRESH-INTERVAL:P3D
CALSCALE:GREGORIAN
BEGIN:VEVENT
DTSTART:20091210T233000Z
DTEND:20091211T010000Z
X-MICROSOFT-CDO-ALLDAYEVENT:FALSE
SUMMARY:Business After Hours
DESCRIPTION:Business After Hours hosted by Antonelli College at Southern Oaks.
X-ALT-DESC;FMTTYPE=text/html:<div>Business After Hours hosted by Antonelli College at Southern Oaks.</div>
LOCATION:Southern Oaks House & Gardens
UID:e.475.493
SEQUENCE:3
DTSTAMP:20260421T083327Z
URL:http://2fwww.theadp.com/events/details/business-after-hours-12-10-2009-493
END:VEVENT

END:VCALENDAR
