BEGIN:VCALENDAR
VERSION:2.0
PRODID:-//ChamberMaster//Event Calendar 2.0//EN
METHOD:PUBLISH
X-PUBLISHED-TTL:P3D
REFRESH-INTERVAL:P3D
CALSCALE:GREGORIAN
BEGIN:VEVENT
DTSTART:20090714T223000Z
DTEND:20090715T000000Z
X-MICROSOFT-CDO-ALLDAYEVENT:FALSE
SUMMARY:Business After Hours
DESCRIPTION:Join us for Business After Hours \nat Main Street Books\non Tuesday\, July 14\n5:30-7:30 pm \n \n  featuring\n Hattiesburg resident\n Tony Mozingo\, \nsigning \nThe Longleaf Trace Companion\n\nMain Street Books is located in downtown Hattiesburg \non Main Street near Town Square Park. \n \nCall Main Street Books for more information at 601.584.6960.
X-ALT-DESC;FMTTYPE=text/html:Join us for Business After Hours \nat Main Street Books\non Tuesday\, July 14\n5:30-7:30 pm \n \n  featuring\n Hattiesburg resident\n Tony Mozingo\, \nsigning \nThe Longleaf Trace Companion\n\nMain Street Books is located in downtown Hattiesburg \non Main Street near Town Square Park. \n \nCall Main Street Books for more information at 601.584.6960.\n  
LOCATION:Main Street Books 210 Main Street 39401
UID:e.475.274
SEQUENCE:3
DTSTAMP:20260421T160005Z
URL:http://2fwww.theadp.com/events/details/business-after-hours-07-14-2009-274
END:VEVENT

END:VCALENDAR
