BEGIN:VCALENDAR
VERSION:2.0
PRODID:-//ChamberMaster//Event Calendar 2.0//EN
METHOD:PUBLISH
X-PUBLISHED-TTL:P3D
REFRESH-INTERVAL:P3D
CALSCALE:GREGORIAN
BEGIN:VEVENT
DTSTART:20090523T180000Z
DTEND:20090523T200000Z
X-MICROSOFT-CDO-ALLDAYEVENT:FALSE
SUMMARY:Booksigning at Main Street Books
DESCRIPTION:Amory Native\, Sam Haskell will be at Main Street Books this Saturday from 1:00-3:00 to sign copies of his newest release Promises I Made My Mother.
X-ALT-DESC;FMTTYPE=text/html:<div>Amory Native\, Sam Haskell will be at Main Street Books this Saturday from 1:00-3:00 to sign copies of his newest release Promises I Made My Mother.</div>
LOCATION:210 Main Street
UID:e.475.253
SEQUENCE:3
DTSTAMP:20260421T184802Z
URL:http://2fwww.theadp.com/events/details/booksigning-at-main-street-books-05-23-2009-253
END:VEVENT

END:VCALENDAR
