BEGIN:VCALENDAR
VERSION:2.0
PRODID:-//ChamberMaster//Event Calendar 2.0//EN
METHOD:PUBLISH
X-PUBLISHED-TTL:P3D
REFRESH-INTERVAL:P3D
CALSCALE:GREGORIAN
BEGIN:VEVENT
DTSTART:20090625T230000Z
DTEND:20090626T003000Z
X-MICROSOFT-CDO-ALLDAYEVENT:FALSE
SUMMARY:Book Signing & Pajama Party at Main Street Books
DESCRIPTION:PAJAMA PARTY!!!  Come in your pajamas and enjoy games\, refreshments and story time with one of Mississippi's most beloved children's author/ illustrator\, Laurie Parker.  Starkville's Laurie Parker\, author/illustrator of titles like "Everywhere in Mississippi\, "The Turtle Saver\," "A for Angels\," and many other favorites\, has now delivered an enchanting bedtime read with her Summer of 2009 release\, "The Sweet Dreams Book."  $18.50
X-ALT-DESC;FMTTYPE=text/html:PAJAMA PARTY!!!  Come in your pajamas and enjoy games\, refreshments and story time with one of Mississippi's most beloved children's author/ illustrator\, Laurie Parker.  Starkville's Laurie Parker\, author/illustrator of titles like "Everywhere in Mississippi\, "The Turtle Saver\," "A for Angels\," and many other favorites\, has now delivered an enchanting bedtime read with her Summer of 2009 release\, "The Sweet Dreams Book."  $18.50
LOCATION:Main Street Books 210 Main Street Historic Downtown Hattiesburg
UID:e.475.260
SEQUENCE:3
DTSTAMP:20260421T174054Z
URL:http://2fwww.theadp.com/events/details/book-signing-pajama-party-at-main-street-books-06-25-2009-260
END:VEVENT

END:VCALENDAR
