BEGIN:VCALENDAR
VERSION:2.0
PRODID:-//ChamberMaster//Event Calendar 2.0//EN
METHOD:PUBLISH
X-PUBLISHED-TTL:P3D
REFRESH-INTERVAL:P3D
CALSCALE:GREGORIAN
BEGIN:VEVENT
DTSTART:20090629T223000Z
DTEND:20090630T000000Z
X-MICROSOFT-CDO-ALLDAYEVENT:FALSE
SUMMARY:Book Signing at Main Street Books
DESCRIPTION:Bestselling author Billie Letts will sign Made in the U.S.A. at Main Street Books. The bestselling author of WHERE THE HEART IS returns with a heartrending tale of two children in search of a place to call home.\nMADE IN THE U.S.A. is the alternately heartbreaking and life-affirming story of two gutsy children who must discover how cruel\, unfair and frightening the world is before they come to a place they can finally call home.
X-ALT-DESC;FMTTYPE=text/html:Bestselling author Billie Letts will sign Made in the U.S.A. at Main Street Books. The bestselling author of WHERE THE HEART IS returns with a heartrending tale of two children in search of a place to call home.\nMADE IN THE U.S.A. is the alternately heartbreaking and life-affirming story of two gutsy children who must discover how cruel\, unfair and frightening the world is before they come to a place they can finally call home.\n	 \n
LOCATION:Main Street Books 210 Main Street Historic Downtown Hattiesburg
UID:e.475.261
SEQUENCE:3
DTSTAMP:20260421T173737Z
URL:http://2fwww.theadp.com/events/details/book-signing-at-main-street-books-06-29-2009-261
END:VEVENT

END:VCALENDAR
