BEGIN:VCALENDAR
VERSION:2.0
PRODID:-//ChamberMaster//Event Calendar 2.0//EN
METHOD:PUBLISH
X-PUBLISHED-TTL:P3D
REFRESH-INTERVAL:P3D
CALSCALE:GREGORIAN
BEGIN:VEVENT
DTSTART:20090616T223000Z
DTEND:20090617T000000Z
X-MICROSOFT-CDO-ALLDAYEVENT:FALSE
SUMMARY:Book Signing at Main Street Books
DESCRIPTION:Long Beach Native Tom C. McKenney will sign Jack Hinson's One-Man War.  \nMcKenney\, a retired infantry officer and noted author\, tells the story of legendary Civil War sniper Jack Hinson\; a wealthy plantation owner who remained neutral until Union troops murdered his two sons on his property. The author spent over 15 years researching Hinson\, finding surprising links between this man and other noted historical figures such as Nathan Bedford Forrest\, Wyatt Earp and Jesse James (the cousin of Hinson's wife). Civil war buffs and historians will appreciate the details in this biography\, considering that most of the documents surrounding Hinson's exploits were destroyed and most of the information has been suppressed by his family for generations.  $26.95
X-ALT-DESC;FMTTYPE=text/html:Long Beach Native Tom C. McKenney will sign Jack Hinson's One-Man War.  \nMcKenney\, a retired infantry officer and noted author\, tells the story of legendary Civil War sniper Jack Hinson\; a wealthy plantation owner who remained neutral until Union troops murdered his two sons on his property. The author spent over 15 years researching Hinson\, finding surprising links between this man and other noted historical figures such as Nathan Bedford Forrest\, Wyatt Earp and Jesse James (the cousin of Hinson's wife). Civil war buffs and historians will appreciate the details in this biography\, considering that most of the documents surrounding Hinson's exploits were destroyed and most of the information has been suppressed by his family for generations.  $26.95
LOCATION:Main Street Books 210 Main Street Historic Downtown Hattiesburg
UID:e.475.259
SEQUENCE:3
DTSTAMP:20260421T173804Z
URL:http://2fwww.theadp.com/events/details/book-signing-at-main-street-books-06-16-2009-259
END:VEVENT

END:VCALENDAR
