BEGIN:VCALENDAR
VERSION:2.0
PRODID:-//ChamberMaster//Event Calendar 2.0//EN
METHOD:PUBLISH
X-PUBLISHED-TTL:P3D
REFRESH-INTERVAL:P3D
CALSCALE:GREGORIAN
BEGIN:VEVENT
DTSTART:20090612T223000Z
DTEND:20090613T000000Z
X-MICROSOFT-CDO-ALLDAYEVENT:FALSE
SUMMARY:Book Signing at Main Street Books
DESCRIPTION:Gulfport native\, Neil White will sign In The Sanctuary of Outcasts.  Sentenced to eighteen months in a federal prison for a white collar crime.  Neil White finds himself imprisoned in an isolated colony in Carville\, Louisiana with the last people in the continental United States disfigured by leprosy.  White finds a new best friend in Ella Bounds\, an eighty-year-old African American double amputee who had contracted leprosy as a child.  She and the other secret people along with a wacky troop if inmates\, help  White rediscover the value of simplicity\, friendship\, and gratitude.  Funny and poignant\, In The Sanctuary of Outcasts is an uplifiting memoir that reminds us all what matters most.  $25.99
X-ALT-DESC;FMTTYPE=text/html:Gulfport native\, Neil White will sign In The Sanctuary of Outcasts.  Sentenced to eighteen months in a federal prison for a white collar crime.  Neil White finds himself imprisoned in an isolated colony in Carville\, Louisiana with the last people in the continental United States disfigured by leprosy.  White finds a new best friend in Ella Bounds\, an eighty-year-old African American double amputee who had contracted leprosy as a child.  She and the other secret people along with a wacky troop if inmates\, help  White rediscover the value of simplicity\, friendship\, and gratitude.  Funny and poignant\, In The Sanctuary of Outcasts is an uplifiting memoir that reminds us all what matters most.  $25.99
LOCATION:Main Street Books 210 Main Street Historic Downtown Hattiesburg
UID:e.475.258
SEQUENCE:3
DTSTAMP:20260421T173915Z
URL:http://2fwww.theadp.com/events/details/book-signing-at-main-street-books-06-12-2009-258
END:VEVENT

END:VCALENDAR
