BEGIN:VCALENDAR
VERSION:2.0
PRODID:-//ChamberMaster//Event Calendar 2.0//EN
METHOD:PUBLISH
X-PUBLISHED-TTL:P3D
REFRESH-INTERVAL:P3D
CALSCALE:GREGORIAN
BEGIN:VEVENT
DTSTART:20090506T150000Z
DTEND:20090506T153000Z
X-MICROSOFT-CDO-ALLDAYEVENT:FALSE
SUMMARY:blooms garden & gift and blooms home & hearth Ribbon Cutting
DESCRIPTION:blooms garden & gift is the Hattiesburg Historic District's complete greenery and garden decor retailer. Our store can provide you with anything from fresh-cut flower arrangements to potted plants\, or for the "do-it-yourselfer"\, all styles of bedding plants that are sure to make your home garden POP. blooms g&g is also a licensed dealer of Audubon Association's Bird watcher's equipment\, including all styles of feeders and garden decorblooms home & hearth can furnish any home\, no matter the decor. Whether it is a traditional or contemporary style you are looking for\, we have a range of furnishings and antiques to suit all. blooms h&h is also the largest Peter's Pottery Boutique & the sole distributor for your Greater Hattiesburg Area.Please come enjoy refreshments and join the Area Development Partnership to welcome blooms garden & gift and blooms home & hearth to the ADP! There will be door prizes so do not miss out!
X-ALT-DESC;FMTTYPE=text/html:<div>blooms garden &amp\; gift is the Hattiesburg Historic District's complete greenery and garden decor retailer. Our store can provide you with anything from fresh-cut flower arrangements to potted plants\, or for the &quot\;do-it-yourselfer&quot\;\, all styles of bedding plants that are sure to make your home garden POP. blooms g&amp\;g is also a licensed dealer of Audubon Association's Bird watcher's equipment\, including all styles of feeders and garden decor</div><div><span lang="EN"><p>blooms home &amp\; hearth can furnish any home\, no matter the decor. Whether it is a traditional or contemporary style you are looking for\, we have a range of furnishings and antiques to suit all. blooms h&amp\;h is also the largest Peter's Pottery Boutique &amp\; the sole distributor for your Greater Hattiesburg Area.</p></span>Please come enjoy refreshments and join the Area Development Partnership to welcome blooms garden &amp\; gift and blooms home &amp\; hearth to the ADP! There will be door prizes so do not miss out!</div>
LOCATION:blooms garden & gift and blooms home & hearth127 Buschman Street\, Suite 40Hattiesburg\, MS 39401601.545.3211 Across from the Train Depot
UID:e.475.245
SEQUENCE:3
DTSTAMP:20260421T185904Z
URL:http://2fwww.theadp.com/events/details/blooms-garden-gift-and-blooms-home-hearth-ribbon-cutting-05-06-2009-245
END:VEVENT

END:VCALENDAR
