BEGIN:VCALENDAR
VERSION:2.0
PRODID:-//ChamberMaster//Event Calendar 2.0//EN
METHOD:PUBLISH
X-PUBLISHED-TTL:P3D
REFRESH-INTERVAL:P3D
CALSCALE:GREGORIAN
BEGIN:VEVENT
DTSTART;VALUE=DATE:20090811
DTEND;VALUE=DATE:20090812
TRANSP:TRANSPARENT
X-MICROSOFT-CDO-ALLDAYEVENT:TRUE
SUMMARY:Belk offers exclusive ADP Member Discount
DESCRIPTION:Belk is proud to show its appreciation to all ADP Members by providing a special\, exclusive discount 20% off Storewide on August 11th\, 2009. Print a flier from Hot Deals.
X-ALT-DESC;FMTTYPE=text/html:<div>Belk is proud to show its appreciation to all ADP Members by providing a special\, exclusive discount 20% off Storewide on August 11th\, 2009. Print a flier from Hot Deals.</div>
LOCATION:Belk Hattiesburg
UID:e.475.288
SEQUENCE:3
DTSTAMP:20260421T144520Z
URL:http://2fwww.theadp.com/events/details/belk-offers-exclusive-adp-member-discount-08-11-2009-288
END:VEVENT

END:VCALENDAR
