BEGIN:VCALENDAR
VERSION:2.0
PRODID:-//ChamberMaster//Event Calendar 2.0//EN
METHOD:PUBLISH
X-PUBLISHED-TTL:P3D
REFRESH-INTERVAL:P3D
CALSCALE:GREGORIAN
BEGIN:VEVENT
DTSTART:20090422T150000Z
DTEND:20090422T153000Z
X-MICROSOFT-CDO-ALLDAYEVENT:FALSE
SUMMARY:Animal Medical Center Ribbon Cutting
DESCRIPTION:Dr. L.N. Ritter founded Animal Medical Center during the 1950's. In 1975\, Dr. John Mayfield and Dr. William Ewell purchased the hospital. Since 1975\, Animal Medical Center has grown to be one of the largest\, state-of-the-art veterinary hospitals in Mississippi. Our veterinary team now includes Dr. John Mayfield\, Dr. Cliff Lowrey\, Dr. Paul Calhoun\, Dr. Randall Patrolia\, Dr. John Mayfield III\, and Dr. Nate Moseley. Animal Medical Center is proud to offer services from grooming\, doggie daycare\, and routine care to orthopedic surgeries\, CT\, emergency service\, and 24 hour care. We welcome you to visit our hospital and see that we truly provide "Excellence In Care For Your Pet."Come and enjoy refreshments and tour the new facility of Animal Medical Center. Events for the day will include pet photography\, refreshments\, door prizes from products (flea control\, etc.) to services (microchip placements).  Representatives from Hill's Pet Nutrition\, Merial\, and Bayer Animal Health will also be on the premises for questions and product information.
X-ALT-DESC;FMTTYPE=text/html:<div>&nbsp\;</div><div><div style="margin: 0in 0in 10pt"><span style="font-size: 14pt\; line-height: 115%"><font size="3">Dr. L.N. Ritter founded <a href="http://animal-er.com/">Animal Medical Center</a> during the 1950&rsquo\;s.&nbsp\;In 1975\, Dr. John Mayfield and Dr. William Ewell purchased the hospital.&nbsp\;Since 1975\, Animal Medical Center has grown to be one of the largest\, state-of-the-art veterinary hospitals in Mississippi.&nbsp\;Our veterinary team now includes Dr. John Mayfield\, Dr. Cliff Lowrey\, Dr. Paul Calhoun\, Dr. Randall Patrolia\, Dr. John Mayfield III\, and Dr. Nate Moseley.&nbsp\;Animal Medical Center is proud to offer services from grooming\, doggie daycare\, and routine care to orthopedic surgeries\, CT\, emergency service\, and 24 hour care.&nbsp\;We welcome you to visit our hospital and see that we truly provide <em>&ldquo\;Excellence In Care For Your Pet.&rdquo\;</em></font></span></div></div><div><font size="3">Come and enjoy refreshments and tour the new facility of Animal Medical Center. Events for the day will include pet photography\, refreshments\, door prizes from products (flea control\, etc.) to services (microchip placements).&nbsp\; Representatives from Hill&rsquo\;s Pet Nutrition\, Merial\, and Bayer Animal Health will also be on the premises for questions and product information.&nbsp\;</font></div>
LOCATION:Animal Medical Center3422 Hardy StreetHattiesburg\, MS 39402601.264.5785
UID:e.475.16
SEQUENCE:3
DTSTAMP:20260421T201747Z
URL:http://2fwww.theadp.com/events/details/animal-medical-center-ribbon-cutting-04-22-2009-16
END:VEVENT

END:VCALENDAR
