BEGIN:VCALENDAR
VERSION:2.0
PRODID:-//ChamberMaster//Event Calendar 2.0//EN
METHOD:PUBLISH
X-PUBLISHED-TTL:P3D
REFRESH-INTERVAL:P3D
CALSCALE:GREGORIAN
BEGIN:VEVENT
DTSTART;VALUE=DATE:20090516
DTEND;VALUE=DATE:20090517
TRANSP:TRANSPARENT
X-MICROSOFT-CDO-ALLDAYEVENT:TRUE
SUMMARY:American Red Cross South Central MS Chapter Annual MASH Bash 2009
DESCRIPTION:The American Red Cross will hosts its 3rd Annual MASH Bash on Saturday\, May 16th begining at   6 p.m. at the Historic downtown train depot.  There will be a silent auction\, music of t-bird mac & USO Show\, great food & drink\, Camp Shelby Medical Company training site display\, Costume Contest\, and Door Prizes. All proceeds from this event benefit the South Central Mississippi Chapter of the American Red Cross\, including the mission to support our men and women in the Armed Forces.  This event is sponsored by Southern Neurologic and Spinal Institute.
X-ALT-DESC;FMTTYPE=text/html:The American Red Cross will hosts its 3rd Annual MASH Bash on Saturday\, May 16th begining at   6 p.m. at the Historic downtown train depot.  There will be a silent auction\, music of t-bird mac & USO Show\, great food & drink\, Camp Shelby Medical Company training site display\, Costume Contest\, and Door Prizes. All proceeds from this event benefit the South Central Mississippi Chapter of the American Red Cross\, including the mission to support our men and women in the Armed Forces.  This event is sponsored by Southern Neurologic and Spinal Institute. \n
LOCATION:Historic Downtown Train Depot
UID:e.475.249
SEQUENCE:3
DTSTAMP:20260421T184919Z
URL:http://2fwww.theadp.com/events/details/american-red-cross-south-central-ms-chapter-annual-mash-bash-2009-05-16-2009-249
END:VEVENT

END:VCALENDAR
