BEGIN:VCALENDAR
VERSION:2.0
PRODID:-//ChamberMaster//Event Calendar 2.0//EN
METHOD:PUBLISH
X-PUBLISHED-TTL:P3D
REFRESH-INTERVAL:P3D
CALSCALE:GREGORIAN
BEGIN:VEVENT
DTSTART:20090414T163000Z
DTEND:20090414T180000Z
X-MICROSOFT-CDO-ALLDAYEVENT:FALSE
SUMMARY:ADP READS
DESCRIPTION:Designed for business and community leaders wishing to grow professionally through business literature\, Dr. Angeline Godwin\, president of the ADP who boasts two master's degrees and a PhD in English\, will guide participants through five key books focused on economic and professional growth. THE ADP READS program offers tools to increase productivity and ultimately enhance your personal and business environment in a format that caters to professionals on the go.  For more information\, call 601.296.7500 or email Dr. Angeline Godwin at a.godwin@theADP.com.
X-ALT-DESC;FMTTYPE=text/html:<div style="margin: 0in 0in 0pt"><span style="font-size: 10pt">Designed for business and community leaders wishing to grow professionally through business literature\, Dr. Angeline Godwin\, president of the ADP who boasts two master&rsquo\;s degrees and a PhD in English\, will guide participants through five key books focused on economic and professional growth. <em>THE ADP READS </em>program offers tools to increase productivity and ultimately enhance your personal and business environment in a format that caters to professionals on the go.&nbsp\; For more information\, call 601.296.7500 or email Dr. Angeline Godwin at <a href="mailto:a.godwin@theADP.com"><font color="#0000ff">a.godwin@theADP.com</font></a>. </span></div>
LOCATION:Groups will meet in the ADP offices\, located on the second floor of the Lake Terrace Convention Center.
UID:e.475.27
SEQUENCE:3
DTSTAMP:20260421T200557Z
URL:http://2fwww.theadp.com/events/details/adp-reads-04-14-2009-27
END:VEVENT

END:VCALENDAR
