BEGIN:VCALENDAR
VERSION:2.0
PRODID:-//ChamberMaster//Event Calendar 2.0//EN
METHOD:PUBLISH
X-PUBLISHED-TTL:P3D
REFRESH-INTERVAL:P3D
CALSCALE:GREGORIAN
BEGIN:VEVENT
DTSTART;VALUE=DATE:20090928
DTEND;VALUE=DATE:20090929
TRANSP:TRANSPARENT
X-MICROSOFT-CDO-ALLDAYEVENT:TRUE
SUMMARY:ADP Corporate Golf Challenge (2009)
DESCRIPTION:The Area Development Partnership's Corporate Golf Challenge is a prime opportunity for you to network with other community leaders and business professionals.  Presented by Hattiesburg Coca-Cola\, the ADP's 12th Annual Corporate Golf Challenge gives you an opportunity to play on the beautiful Hattiesburg Country Club golf course.  Followed by a special Business After Hours hosted by The First\, A National Banking Association\, the 2009 ADP Corporate Golf Challenge is sure to be a success.  Sign up to play today\, because space on the golf course is limited and as always is filling up fast! If you have any difficulties with online registration\, or need to reset your company's login password\, please contact Catherine Lott at 601.296.7516.
X-ALT-DESC;FMTTYPE=text/html:<div><span style="font-size: larger"><span style="font-family: Century Gothic">The <i>Area Development Partnership&rsquo\;s Corporate Golf Challenge</i> is a prime opportunity for you to network with other community leaders and business professionals.&nbsp\; Presented by <b>Hattiesburg Coca-Cola</b>\, the ADP&rsquo\;s 12th Annual <i>Corporate Golf Challenge</i> gives you an opportunity to play on the beautiful <b>Hattiesburg Country Club</b> golf course.&nbsp\; Followed by a special <i>Business After</i> <i>Hours</i> hosted by<i> </i><b>The First\, A National Banking Association</b>\, the <i>2009 ADP Corporate Golf Challenge</i> is sure to be a success.&nbsp\; Sign up to play today\, because space on the golf course is limited and as always is filling up fast!</span></span></div><div>&nbsp\;</div><div><span style="font-size: larger"><span style="font-family: Century Gothic">If you have any difficulties with online registration\, or need to reset your company's login password\, please contact Catherine Lott at 601.296.7516.</span></span></div>
LOCATION:Hattiesburg Country Club
UID:e.475.240
SEQUENCE:3
DTSTAMP:20260421T133552Z
URL:http://2fwww.theadp.com/events/details/adp-corporate-golf-challenge-2009-09-28-2009-240
END:VEVENT

END:VCALENDAR
