BEGIN:VCALENDAR
VERSION:2.0
PRODID:-//ChamberMaster//Event Calendar 2.0//EN
METHOD:PUBLISH
X-PUBLISHED-TTL:P3D
REFRESH-INTERVAL:P3D
CALSCALE:GREGORIAN
BEGIN:VEVENT
DTSTART;VALUE=DATE:20090611
DTEND;VALUE=DATE:20090614
TRANSP:TRANSPARENT
X-MICROSOFT-CDO-ALLDAYEVENT:TRUE
SUMMARY:Additional 5% Cash Back sale
DESCRIPTION:Take an additional 5% cash back on already discounted inventory.
X-ALT-DESC;FMTTYPE=text/html:Take an additional 5% cash back on already discounted inventory.
LOCATION:Mississippi Music 100 North 39th Avenue
UID:e.475.265
SEQUENCE:3
DTSTAMP:20260421T173354Z
URL:http://2fwww.theadp.com/events/details/additional-5-cash-back-sale-06-11-2009-265
END:VEVENT

END:VCALENDAR
