BEGIN:VCALENDAR
VERSION:2.0
PRODID:-//ChamberMaster//Event Calendar 2.0//EN
METHOD:PUBLISH
X-PUBLISHED-TTL:P3D
REFRESH-INTERVAL:P3D
CALSCALE:GREGORIAN
BEGIN:VEVENT
DTSTART:20090601T220000Z
DTEND:20090602T000000Z
X-MICROSOFT-CDO-ALLDAYEVENT:FALSE
SUMMARY:7th Anniversary Celebration and Sale
DESCRIPTION:We are celebrating our seventh year of business in the Pine Belt. Come enjoy delicious treats\, view our new collection of fabrics and meet our in-house designer\, Leigh Ann Jones.
X-ALT-DESC;FMTTYPE=text/html:<div>We are celebrating our seventh year of business in the Pine Belt. Come enjoy delicious treats\, view our new collection of fabrics and meet our in-house designer\, Leigh Ann Jones.</div>
LOCATION:The Designer's Fabric Shop\, 5317 Old Highway 11\, Suite 11\, Hattiesburg
UID:e.475.250
SEQUENCE:3
DTSTAMP:20260421T173528Z
URL:http://2fwww.theadp.com/events/details/7th-anniversary-celebration-and-sale-06-01-2009-250
END:VEVENT

END:VCALENDAR
